{
 "currentVersion": 10.71,
 "serviceDescription": "El Instituto de Investigación Geológico y Energético (IIGE) dispone del mapa de zonas climáticas del Ecuador, el cual pone a disposición del público a través de su Geoportal. Este mapa proporciona información detallada sobre la clasificación climática del país, apoyando estudios ambientales, agrícolas y de planificación territorial.",
 "mapName": "Capas",
 "description": "",
 "copyrightText": "Instituto de Investigación Geológico y Energético IIGE",
 "supportsDynamicLayers": true,
 "layers": [
  {
   "id": 0,
   "name": "Zonificacion Climatica",
   "parentLayerId": -1,
   "defaultVisibility": true,
   "subLayerIds": null,
   "minScale": 0,
   "maxScale": 0,
   "type": "Feature Layer",
   "geometryType": "esriGeometryPolygon"
  }
 ],
 "tables": [],
 "spatialReference": {
  "wkid": 32717,
  "latestWkid": 32717
 },
 "singleFusedMapCache": true,
 "tileInfo": {
  "rows": 256,
  "cols": 256,
  "dpi": 96,
  "format": "PNG",
  "compressionQuality": 75,
  "origin": {
   "x": -5120900,
   "y": 19998100
  },
  "spatialReference": {
   "wkid": 32717,
   "latestWkid": 32717
  },
  "lods": [
   {
    "level": 0,
    "resolution": 2116.670900008467,
    "scale": 8000000
   },
   {
    "level": 1,
    "resolution": 1058.3354500042335,
    "scale": 4000000
   },
   {
    "level": 2,
    "resolution": 529.1677250021168,
    "scale": 2000000
   },
   {
    "level": 3,
    "resolution": 264.5838625010584,
    "scale": 1000000
   },
   {
    "level": 4,
    "resolution": 132.2919312505292,
    "scale": 500000
   },
   {
    "level": 5,
    "resolution": 66.1459656252646,
    "scale": 250000
   },
   {
    "level": 6,
    "resolution": 33.0729828126323,
    "scale": 125000
   },
   {
    "level": 7,
    "resolution": 16.933367200067735,
    "scale": 64000
   },
   {
    "level": 8,
    "resolution": 8.466683600033868,
    "scale": 32000
   },
   {
    "level": 9,
    "resolution": 4.233341800016934,
    "scale": 16000
   }
  ]
 },
 "initialExtent": {
  "xmin": 306124.4186639716,
  "ymin": 9816445.387781465,
  "xmax": 1340596.9893360285,
  "ymax": 1.0196510342595002E7,
  "spatialReference": {
   "wkid": 32717,
   "latestWkid": 32717
  }
 },
 "fullExtent": {
  "xmin": 498823.41000000003,
  "ymin": 9445383.252,
  "xmax": 1147897.998,
  "ymax": 1.01607423859E7,
  "spatialReference": {
   "wkid": 32717,
   "latestWkid": 32717
  }
 },
 "minScale": 9244648.868618,
 "maxScale": 4513.988705,
 "units": "esriMeters",
 "supportedImageFormatTypes": "PNG32,PNG24,PNG,JPG,DIB,TIFF,EMF,PS,PDF,GIF,SVG,SVGZ,BMP",
 "documentInfo": {
  "Title": "",
  "Author": "",
  "Comments": "El Instituto de Investigación Geológico y Energético (IIGE) dispone del mapa de zonas climáticas del Ecuador, el cual pone a disposición del público a través de su Geoportal. Este mapa proporciona información detallada sobre la clasificación climática del país, apoyando estudios ambientales, agrícolas y de planificación territorial.",
  "Subject": "Zonificación CLimática del Ecuador",
  "Category": "",
  "AntialiasingMode": "None",
  "TextAntialiasingMode": "Force",
  "Keywords": "Ecuador,Zona Climatica,IIGE,Bige"
 },
 "capabilities": "Map,Query,Data",
 "supportedQueryFormats": "JSON, geoJSON",
 "exportTilesAllowed": false,
 "supportsDatumTransformation": true,
 "maxRecordCount": 1000,
 "maxImageHeight": 4096,
 "maxImageWidth": 4096,
 "supportedExtensions": "KmlServer, WMSServer"
}
